BEGIN:VCALENDAR
VERSION:2.0
CALSCALE:GREGORIAN
PRODID:adamgibbons/ics
METHOD:PUBLISH
X-PUBLISHED-TTL:PT1H
BEGIN:VEVENT
UID:12916@balotta.org
SUMMARY:Laboratorio di ricamo resistente
DTSTAMP:20260421T134506Z
DTSTART:20260422T153000Z
DTEND:20260422T183000Z
URL:https://balotta.org/event/laboratorio-di-ricamo-resistente
LOCATION:eretica bolognina - Via Alessandro Tiarini\, La Zucca\, Bolognina\
	, Quartiere Navile\, Bologna\, Emilia-Romagna\, 40129\, Italia
STATUS:CONFIRMED
CATEGORIES:antifascismo,benefit,cassa di solidarietà,freeallantifas,laborat
	orio,ricamo
END:VEVENT
BEGIN:VEVENT
UID:13141@balotta.org
SUMMARY:Labcyberfem 23 aprile\, tavolo nel parco
DTSTAMP:20260421T134506Z
DTSTART:20260423T160000Z
DTEND:20260423T183000Z
URL:https://balotta.org/event/labcyberfem-23-aprile-tavolo-nel-parco
LOCATION:Centro delle donne - Via del Piombo 7
STATUS:CONFIRMED
CATEGORIES:cyberfem,diy,labcyberfem,laboratorio,transfemminismi
END:VEVENT
BEGIN:VEVENT
UID:13162@balotta.org
SUMMARY:Cartelli liberi per il 25 Aprile
DTSTAMP:20260421T134506Z
DTSTART:20260423T160000Z
URL:https://balotta.org/event/cartelli-liberi-per-il-25-aprile
LOCATION:INK Club - Via Giosué Carducci 4/b\, Bergamo
STATUS:CONFIRMED
CATEGORIES:antifascismo,laboratorio
END:VEVENT
BEGIN:VEVENT
UID:13093@balotta.org
SUMMARY:Laboratorio di Das e Argilla in tettoia Nervi (Casa di quartiere Ka
	tia Bertasi)
DTSTAMP:20260421T134506Z
DTSTART:20260426T140000Z
URL:https://balotta.org/event/laboratorio-di-das-e-argilla-in-tettoia-nervi
	-casa-di-quartiere-katia-bertasi-1
LOCATION:Casa di quartiere Katia Bertasi - Via Aristotile Fioravanti 18/3
STATUS:CONFIRMED
CATEGORIES:diy,laboratorio
END:VEVENT
BEGIN:VEVENT
UID:12880@balotta.org
SUMMARY:Orlando Festival 2026
DTSTAMP:20260421T134506Z
DTSTART:20260505T173000Z
DTEND:20260510T210000Z
URL:https://balotta.org/event/orlando-festival-2026
LOCATION:Auditorium di Piazza della Libertà - Via Duzioni 2\, Bergamo
STATUS:CONFIRMED
CATEGORIES:cinema,danza,festival,laboratorio,orlando,queer,teatro
END:VEVENT
BEGIN:VEVENT
UID:13105@balotta.org
SUMMARY:labcyberfem 7 maggio 2026
DTSTAMP:20260421T134506Z
DTSTART:20260507T163000Z
DTEND:20260507T183000Z
URL:https://balotta.org/event/labcyberfem-7-maggio-2026
LOCATION:Centro delle donne - Via del Piombo 7
STATUS:CONFIRMED
CATEGORIES:cyberfemminismo,diy,hack,labcyberfem,laboratorio
END:VEVENT
BEGIN:VEVENT
UID:12877@balotta.org
SUMMARY:Orlando Extrafestival - Corpi digitali\, relazioni post umane
DTSTAMP:20260421T134506Z
DTSTART:20260517T080000Z
DTEND:20260517T110000Z
URL:https://balotta.org/event/orlando-etrafestival-corpi-digitali-relazioni
	-post-umane
LOCATION:GAMEC - Via San Tomaso 53\, Bergamo
STATUS:CONFIRMED
CATEGORIES:corpi,gamec,hacking,laboratorio,orlando,postumanesimo
END:VEVENT
BEGIN:VEVENT
UID:12937@balotta.org
SUMMARY:Laboratorio di Storiografia Popolare - Spagna '36 Utopia Storia Riv
	oluzione
DTSTAMP:20260421T134506Z
DTSTART:20260523T123000Z
DTEND:20260523T220000Z
URL:https://balotta.org/event/laboratorio-di-storiografia-popolare-spagna-3
	6-utopia-storia-rivoluzione
LOCATION:Circolo Anarchico Berneri - Piazza di Porta Santo Stefano 1
STATUS:CONFIRMED
CATEGORIES:anarchismo,Circolo anarchico Berneri,editoria anarchica e libert
	aria,laboratorio,rassegna
END:VEVENT
END:VCALENDAR
